Workbook
Name \0: [1]CRA.MODI!#REF!
Name \a: [2]PJ!#REF!
Name \b: #REF!
Name \c: #REF!
Name \e: #REF!
Name \f: #REF!
Name \i: #REF!
Name \L: #REF!
Name \m: #REF!
Name \P: #REF!
Name \r: #REF!
Name \sa: #REF!
Name \t: #REF!
Name \x: #REF!
Name \z: #REF!
Name _: #REF!
Name _________PJ50: #REF!
Name ________PJ50: #REF!
Name _______cua1: '[3]ALCANTARILLADO RAS'!$A$4:$B$14
Name _______DMD1: #REF!
Name _______PJ50: #REF!
Name _______VPD1: [4]TARIFAS!$C$582
Name _______VPI1: [4]TARIFAS!$C$580
Name _______VRA1: [4]TARIFAS!$C$579
Name ______cua1: '[3]ALCANTARILLADO RAS'!$A$4:$B$14
Name ______DMD1: #REF!
Name ______INF1: #REF!
Name ______PJ50: #REF!
Name ______VPD1: [4]TARIFAS!$C$582
Name ______VPI1: [4]TARIFAS!$C$580
Name ______VRA1: [4]TARIFAS!$C$579
Name _____cua1: '[3]ALCANTARILLADO RAS'!$A$4:$B$14
Name _____DMD1: #REF!
Name _____PJ50: #REF!
Name _____VPD1: [4]TARIFAS!$C$582
Name _____VPI1: [4]TARIFAS!$C$580
Name _____VRA1: [4]TARIFAS!$C$579
Name ____cua1: '[3]ALCANTARILLADO RAS'!$A$4:$B$14
Name ____DMD1: #REF!
Name ____PJ50: #REF!
Name ____VPD1: [4]TARIFAS!$C$582
Name ____VPI1: [4]TARIFAS!$C$580
Name ____VRA1: [4]TARIFAS!$C$579
Name ___AFC1: [5]INV!$A$25:$D$28
Name ___AFC3: [5]INV!$F$25:$I$28
Name ___AFC5: [5]INV!$K$25:$N$28
Name ___BGC1: [5]INV!$A$5:$D$8
Name ___BGC3: [5]INV!$F$5:$I$8
Name ___BGC5: [5]INV!$K$5:$N$8
Name ___CAC1: [5]INV!$A$19:$D$22
Name ___CAC3: [5]INV!$F$19:$I$22
Name ___CAC5: [5]INV!$K$19:$N$22
Name ___Cod1: #REF!
Name ___cua1: '[3]ALCANTARILLADO RAS'!$A$4:$B$14
Name ___DMD1: #REF!
Name ___EST12: #REF!
Name ___f: [6]Cálculo!$B$67
Name ___INF1: #REF!
Name ___MA2: #REF!
Name ___MSC1: #REF!

Sheet Hoja1
B3: ACTIVIDADES | C3: VALOR CAPITULO | D3: AIU | E3: VALOR + AIU | G3: MANO DE OBRA NO CALIF. | H3: MATERIALES | I3: MAQUINARIA Y EQUIPO | J3: TRANSPORTE
G4: 0.2 | H4: 0.55 | I4: 0.08 | J4: 0.17
A5: 1 | B5: =+'PPTO. GENERAL'!C8 -> Realizar el suministro, transporte e instalación de dos (2) módulos solares monocristalinos de potencia mayor o igual a 450Wp cada uno + Accesorios de ensamblaje y sistema de protección DPS | C5: =+'PPTO. GENERAL'!K8 -> 8.3136429e+08 | D5: =+AIU!J56 -> 0.18427 | E5: =(C5*$D$5)+C5 -> 9.8455979e+08 | G5: =E5*$G$4 -> 1.9691196e+08 | H5: =E5*$H$4 -> 5.4150789e+08 | I5: =E5*$I$4 -> 78764783 | J5: =E5*$J$4 -> 1.6737516e+08
A6: 2 | B6: =+'PPTO. GENERAL'!C9 -> Realizar el suministro, transporte e instalación de una (1) batería de Litio-Ion LiFePO4 de capacidad mayor o igual de 2840 Wh, 25.6 VDC con vida útil igual o mayor a 3650 ciclos a un DoD del 80% y protección de temperatura | C6: =+'PPTO. GENERAL'!K9 -> 1.014791e+09 | E6: =(C6*$D$5)+C6 -> 1.2017865e+09 | G6: =E6*$G$4 -> 2.4035731e+08 | H6: =E6*$H$4 -> 6.609826e+08 | I6: =E6*$I$4 -> 96142923 | J6: =E6*$J$4 -> 2.0430371e+08
A7: 3 | B7: =+'PPTO. GENERAL'!C10 -> Realizar el suministro, transporte e instalación de regulador MPPT (controlador) de 24 Vdc, 40 A, tensión máxima de circuito abierto 150 VDC | C7: =+'PPTO. GENERAL'!K10 -> 2.0428772e+08 | E7: =(C7*$D$5)+C7 -> 2.4193182e+08 | G7: =E7*$G$4 -> 48386363 | H7: =E7*$H$4 -> 1.330625e+08 | I7: =E7*$I$4 -> 19354545 | J7: =E7*$J$4 -> 41128409
A8: 4 | B8: =+'PPTO. GENERAL'!C11 -> Realizar el suministro, transporte e instalación de Inversor de 1.000 W, 24VDC - 120VAC, 60Hz, onda senoidal pura | C8: =+'PPTO. GENERAL'!K11 -> 3.4002333e+08 | E8: =(C8*$D$5)+C8 -> 4.0267943e+08 | G8: =E8*$G$4 -> 80535885 | H8: =E8*$H$4 -> 2.2147368e+08 | I8: =E8*$I$4 -> 32214354 | J8: =E8*$J$4 -> 68455503
A9: 5 | B9: =+'PPTO. GENERAL'!C12 -> Realizar el suministro, transporte e instalación de soporte tipo mástil estructurado de 3 m, en acero galvanizado, espesor 2.5mm, dos mirillas para 2 paneles solares fotovoltaicos | C9: =+'PPTO. GENERAL'!K12 -> 6.886981e+08 | E9: =(C9*$D$5)+C9 -> 8.156045e+08 | G9: =E9*$G$4 -> 1.631209e+08 | H9: =E9*$H$4 -> 4.4858247e+08 | I9: =E9*$I$4 -> 65248360 | J9: =E9*$J$4 -> 1.3865276e+08
A10: 6 | B10: =+'PPTO. GENERAL'!C13 -> Realizar el suministro, transporte e instalación de dado de cimentación para fijación de mástil estructurado de 3m | C10: =+'PPTO. GENERAL'!K13 -> 5.0271095e+08 | E10: =(C10*$D$5)+C10 -> 5.953455e+08 | G10: =E10*$G$4 -> 1.190691e+08 | H10: =E10*$H$4 -> 3.2744002e+08 | I10: =E10*$I$4 -> 47627640 | J10: =E10*$J$4 -> 1.0120873e+08
A11: 7 | B11: =+'PPTO. GENERAL'!C14 -> Realizar el suministro, transporte e instalación de sistema de Puesta a Tierra | C11: =+'PPTO. GENERAL'!K14 -> 1.6155047e+08 | E11: =(C11*$D$5)+C11 -> 1.9131937e+08 | G11: =E11*$G$4 -> 38263874 | H11: =E11*$H$4 -> 1.0522565e+08 | I11: =E11*$I$4 -> 15305550 | J11: =E11*$J$4 -> 32524293
A12: 8 | B12: =+'PPTO. GENERAL'!C15 -> Realizar el suministro, transporte e instalación de materiales eléctricos de interconexión, accesorios y protecciones eléctricas para los SSFV y Gabinete de equipos | C12: =+'PPTO. GENERAL'!K15 -> 7.4267165e+08 | E12: =(C12*$D$5)+C12 -> 8.7952375e+08 | G12: =E12*$G$4 -> 1.7590475e+08 | H12: =E12*$H$4 -> 4.8373806e+08 | I12: =E12*$I$4 -> 70361900 | J12: =E12*$J$4 -> 1.4951904e+08
A13: 9 | B13: =+'PPTO. GENERAL'!C16 -> Realizar el suministro, transporte e instalación de medidor prepago monofásico bifilar (incluye plataforma de recaudo) | C13: =+'PPTO. GENERAL'!K16 -> 1.3410364e+08 | E13: =(C13*$D$5)+C13 -> 1.5881492e+08 | G13: =E13*$G$4 -> 31762984 | H13: =E13*$H$4 -> 87348206 | I13: =E13*$I$4 -> 12705194 | J13: =E13*$J$4 -> 26998536
A14: 10 | B14: =+'PPTO. GENERAL'!C17 -> Realizar el suministro, transporte e instalación de kit basico de instalaciones internas (cuatro (4) salidas de iluminación y tres (3) tomacorrientes dobles) | C14: =+'PPTO. GENERAL'!K17 -> 2.8760183e+08 | E14: =(C14*$D$5)+C14 -> 3.4059822e+08 | G14: =E14*$G$4 -> 68119645 | H14: =E14*$H$4 -> 1.8732902e+08 | I14: =E14*$I$4 -> 27247858 | J14: =E14*$J$4 -> 57901698
A15: 11 | B15: =+'PPTO. GENERAL'!C18 -> Realizar el replanteo de usuario | C15: =+'PPTO. GENERAL'!K18 -> 5525050.4 | E15: =(C15*$D$5)+C15 -> 6543151.5 | G15: =E15*$G$4 -> 1308630.3 | H15: =E15*$H$4 -> 3598733.3 | I15: =E15*$I$4 -> 523452.12 | J15: =E15*$J$4 -> 1112335.7
B17: INTERVENTORIA DEL PROYECTO | C17: =+'PPTO. GENERAL'!K24 -> 1.7867847e+08 | E17: =+'PPTO. GENERAL'!K24 -> 1.7867847e+08 | G17: =E17*$G$20 -> 1.3400885e+08 | H17: =E17*$H$20 -> 17867847 | J17: =+E17*$J$20 -> 26801770
B18: APOYO A LA SUPERVISION | C18: =+'PPTO. GENERAL'!K30 -> 90720000 | E18: =+'PPTO. GENERAL'!K30 -> 90720000 | G18: =E18*$G$20 -> 68040000 | H18: =E18*$H$20 -> 9072000 | J18: =+E18*$J$20 -> 13608000
B19: CAPACITACION | C19: =+'PPTO. GENERAL'!K31 -> 25002833 | E19: =C19 -> 25002833 | G19: =E19*$G$20 -> 18752125 | H19: =E19*$H$20 -> 2500283.3 | J19: =+E19*$J$20 -> 3750425
G20: 0.75 | H20: 0.1 | J20: 0.15
I23: SUMA TOTAL | J23: =SUM(G5:J19) -> 6.1131083e+09

Sheet PPTO. GENERAL
B2: PRESUPUESTO GENERAL
B4: INSTALACIÓN DE SOLUCIONES ENERGÉTICAS PARA BENEFICIAR LAS COMUNIDADES INIDIGENAS DEL RESGUARDO NUSSI PURRU EN ZONAS NO INTERCONECTADAS DEL MUNICIPIO DE JURADO - CHOCO
B5: FORMULARIO RESUMEN UNITARIO DE ACTIVIDADES Y CANTIDADES DE OBRA
B7: ÍTEM | C7: ACTIVIDAD | D7: CANTIDAD USUARIOS | E7: UNIDAD | F7: TOTAL MATERIALES | G7: TOTAL HERRAMIENTAS | H7: TOTAL TRANSPORTE | I7: TOTAL MANO DE OBRA | J7: TOTAL APU | K7: SUBTOTAL GENERAL
B8: 1 | C8: Realizar el suministro, transporte e instalación de dos (2) módulos solares monocristalinos de potencia mayor o igual a 450Wp cada uno + Accesorios de ensamblaje y sistema de protección DPS | D8: =+CANTIDADES!$B$153 -> 150 | E8: UND | F8: =APU!H30 -> 3327394.2 | G8: =APU!H35 -> 44201.763 | H8: =APU!H42 -> 2042496 | I8: =APU!H49 -> 128336.66 | J8: =I8+F8+G8+H8 -> 5542428.6 | K8: =J8*D8 -> 8.3136429e+08 | L8: =+(K8*$J$23)+K8 -> 9.8455979e+08 | M8: =+L8-687248447 -> 2.9731135e+08
B9: 2 | C9: Realizar el suministro, transporte e instalación de una (1) batería de Litio-Ion LiFePO4 de capacidad mayor o igual de 2840 Wh, 25.6 VDC con vida útil igual o mayor a 3650 ciclos a un DoD del 80% y protección de temperatura | D9: =D8 -> 150 | E9: UND | F9: =APU!H65 -> 5469180.7 | G9: =APU!H70 -> 6358.5918 | H9: =APU!H77 -> 1212732 | I9: =APU!H84 -> 77001.992 | J9: =I9+F9+G9+H9 -> 6765273.3 | K9: =J9*D9 -> 1.014791e+09 | L9: =+(K9*$J$23)+K9 -> 1.2017865e+09 | M9: =+L9-952768297 -> 2.4901824e+08
B10: 3 | C10: Realizar el suministro, transporte e instalación de regulador MPPT (controlador) de 24 Vdc, 40 A, tensión máxima de circuito abierto 150 VDC | D10: =D9 -> 150 | E10: UND | F10: =APU!H99 -> 1080919.3 | G10: =APU!H104 -> 4262.6103 | H10: =APU!H111 -> 191484 | I10: =APU!H118 -> 85252.206 | J10: =I10+F10+G10+H10 -> 1361918.1 | K10: =J10*D10 -> 2.0428772e+08 | L10: =+(K10*$J$23)+K10 -> 2.4193182e+08 | M10: =+L10-142024028 -> 99907789
B11: 4 | C11: Realizar el suministro, transporte e instalación de Inversor de 1.000 W, 24VDC - 120VAC, 60Hz, onda senoidal pura | D11: =D10 -> 150 | E11: UND | F11: =APU!H132 -> 1434125.3 | G11: =APU!H137 -> 6325.1639 | H11: =APU!H144 -> 606366 | I11: =APU!H151 -> 220005.7 | J11: =I11+F11+G11+H11 -> 2266822.2 | K11: =J11*D11 -> 3.4002333e+08 | L11: =+(K11*$J$23)+K11 -> 4.0267943e+08 | M11: =+L11-230999362 -> 1.7168006e+08
B12: 5 | C12: Realizar el suministro, transporte e instalación de soporte tipo mástil estructurado de 3 m, en acero galvanizado, espesor 2.5mm, dos mirillas para 2 paneles solares fotovoltaicos | D12: =D11 -> 150 | E12: UND | F12: =APU!H162 -> 2297664.1 | G12: =APU!H167 -> 2841.7405 | H12: =APU!H174 -> 2233980 | I12: =APU!H182 -> 56834.81 | J12: =I12+F12+G12+H12 -> 4591320.7 | K12: =J12*D12 -> 6.886981e+08 | L12: =+(K12*$J$23)+K12 -> 8.156045e+08 | M12: =+L12-618061631 -> 1.9754287e+08
B13: 6 | C13: Realizar el suministro, transporte e instalación de dado de cimentación para fijación de mástil estructurado de 3m | D13: =D12 -> 150 | E13: UND | F13: =APU!H196 -> 430470.07 | G13: =APU!H201 -> 2841.7405 | H13: =APU!H208 -> 2872260 | I13: =APU!H216 -> 45834.526 | J13: =I13+F13+G13+H13 -> 3351406.3 | K13: =J13*D13 -> 5.0271095e+08 | L13: =+(K13*$J$23)+K13 -> 5.953455e+08 | M13: =+L13-440316110 -> 1.5502939e+08
B14: 7 | C14: Realizar el suministro, transporte e instalación de sistema de Puesta a Tierra | D14: =D13 -> 150 | E14: UND | F14: =APU!H231 -> 787687.08 | G14: =APU!H236 -> 6462.6683 | H14: =APU!H242 -> 153600 | I14: =APU!H249 -> 129253.37 | J14: =I14+F14+G14+H14 -> 1077003.1 | K14: =J14*D14 -> 1.6155047e+08 | L14: =+(K14*$J$23)+K14 -> 1.9131937e+08 | M14: =+L14-113631637 -> 77687735
B15: 8 | C15: Realizar el suministro, transporte e instalación de materiales eléctricos de interconexión, accesorios y protecciones eléctricas para los SSFV y Gabinete de equipos | D15: =D14 -> 150 | E15: UND | F15: =APU!H276 -> 2724655.4 | G15: =APU!H281 -> 7241.8543 | H15: =APU!H288 -> 2074410 | I15: =APU!H295 -> 144837.09 | J15: =I15+F15+G15+H15 -> 4951144.3 | K15: =J15*D15 -> 7.4267165e+08 | L15: =+(K15*$J$23)+K15 -> 8.7952375e+08 | M15: =+L15-518237134 -> 3.6128662e+08
B16: 9 | C16: Realizar el suministro, transporte e instalación de medidor prepago monofásico bifilar (incluye plataforma de recaudo) | D16: =D15 -> 150 | E16: UND | F16: =APU!H310 -> 621989.54 | G16: =APU!H314 -> 6875.1781 | H16: =APU!H321 -> 127656 | I16: =APU!H327 -> 137503.56 | J16: =I16+F16+G16+H16 -> 894024.28 | K16: =J16*D16 -> 1.3410364e+08 | L16: =+(K16*$J$23)+K16 -> 1.5881492e+08 | M16: =+L16-101034215 -> 57780705
B17: 10 | C17: Realizar el suministro, transporte e instalación de kit basico de instalaciones internas (cuatro (4) salidas de iluminación y tres (3) tomacorrientes dobles) | D17: =D16 -> 150 | E17: UND | F17: =APU!H360 -> 1464467.5 | G17: =APU!H364 -> 6875.1781 | H17: =APU!H370 -> 336000 | I17: =APU!H377 -> 110002.85 | J17: =I17+F17+G17+H17 -> 1917345.5 | K17: =J17*D17 -> 2.8760183e+08 | L17: =+(K17*$J$23)+K17 -> 3.4059822e+08 | M17: =+L17-290909288 -> 49688935
B18: 11 | C18: Realizar el replanteo de usuario | D18: =D17 -> 150 | E18: UND | F18: 0 | G18: =APU!H393 -> 24000 | H18: 0 | I18: =APU!H397 -> 12833.669 | J18: =I18+F18+G18+H18 -> 36833.669 | K18: =J18*D18 -> 5525050.4 | L18: =+(K18*$J$23)+K18 -> 6543151.5 | M18: =+L18-5745988 -> 797163.46
E19: TOTAL COSTOS DIRECTOS | K19: =SUM(K8:K18) -> 4.913328e+09
E20: ADMINISTRACIÓN | J20: =+AIU!J50 -> 0.11427 | K20: =AIU!I50 -> 5.6144601e+08
E21: IMPREVISTOS | J21: =AIU!J52 -> 0.02 | K21: =+AIU!I52 -> 98266560
C22: Ingeniero Diseñador 10 de junio del 2024 | E22: UTILIDADES | J22: =AIU!J54 -> 0.05 | K22: =+AIU!I54 -> 2.456664e+08 | L22: =+SUM(L8:L18) -> 5.818707e+09 | M22: =+K19+K23 -> 5.818707e+09
E23: TOTAL COSTOS INDIRECTOS | J23: =+J22+J21+J20 -> 0.18427 | K23: =+AIU!I56 -> 9.0537897e+08
E24: INTERVENTORIA | J24: =+K24/K19 -> 0.036366077 | K24: =INTERVENTORÍA!I42 -> 1.7867847e+08
E26: SUB - TOTAL COSTOS DIRECTOS + INDIRECTOS + INTERVENTORIA | K26: =K24+K23+K19 -> 5.9973855e+09
I28: #REF! | K28: #REF!
E29: PLAN DE MANEJO AMBIENTAL | K29: =+'PLAN DE MANEJO AMBIENTAL'!K32:L32 -> 17520931
C30: James Alexis Sánchez Perlaza | E30: APOYO A LA SUPERVISIÓN (% DE SUBTOTAL CD) | K30: ='APOYO SUPERVISIÓN'!I11 -> 90720000
C31: Ingeniero Electricista | E31: CAPACITACIÓN (% DE SUBTOTAL CD+CI+INT) | K31: =CAPACITACIÓN!H22 -> 25002833
C32: CC. 79.794.540
C33: M.P. : VL205-84689 | E33: COSTO TOTAL DEL PROYECTO | K33: =K31+K30+K26+K29 -> 6.1306292e+09
J35: COSTO X USUARIO | K35: =K33/D18 -> 40870861

Sheet APU
B2: APU's UNIDADES INDIVIDUALES
B3: INSTALACIÓN DE SOLUCIONES ENERGÉTICAS PARA BENEFICIAR LAS COMUNIDADES INIDIGENAS DEL RESGUARDO NUSSI PURRU EN ZONAS NO INTERCONECTADAS DEL MUNICIPIO DE JURADO - CHOCO
B4: ANÁLISIS DE PRECIOS UNITARIOS
B5: 1. Realizar el suministro, transporte e instalación de dos (2) módulos solares monocristalinos de potencia mayor o igual a 450Wp cada uno + Accesorios de ensamblaje y sistema de protección DPS
G6: UNIDAD | H6: UND
B8: MATERIALES
B9: ÍTEM | C9: DESCRIPCIÓN DE MATERIALES | D9: UNID. | E9: CANT. | F9: VR. UNIT. | H9: VR. PARCIAL
B10: 1 | C10: Módulo solar cristalino de 450Wp | D10: UND | E10: 2 | F10: =+INSUMOS!E3 -> 1296126.6 | H10: =F10*E10 -> 2592253.1
B11: 2 | C11: Tornillos en acero galvanizado 1/4" x 3/4, incluye tuerca, guaza y arandela. | D11: UND | E11: 12 | F11: =INSUMOS!E4 -> 773.21836 | H11: =F11*E11 -> 9278.6203
B12: 3 | C12: Conector MC4 hembra. | D12: UND | E12: 1 | F12: =INSUMOS!E5 -> 23105.256 | H12: =F12*E12 -> 23105.256
B13: 4 | C13: Conector MC4 macho. | D13: UND | E13: 1 | F13: =INSUMOS!E6 -> 16460.807 | H13: =F13*E13 -> 16460.807
B14: 5 | C14: Cable Solar 2,5 mm2 NEGRO. | D14: M | E14: 10 | F14: =INSUMOS!E7 -> 5209.0967 | H14: =F14*E14 -> 52090.967
B15: 6 | C15: Cable de cobre THWN #8 AWG Verde | D15: M | E15: 5 | F15: =INSUMOS!E8 -> 10621.037 | H15: =F15*E15 -> 53105.186
B16: 7 | C16: Caja de paso externa plástica con riel IP65 20x20 Cm doble fondo. | D16: UND | E16: 1 | F16: =INSUMOS!E9 -> 28054.686 | H16: =F16*E16 -> 28054.686
B17: 8 | C17: Interruptor termomagnetico 15 A tipo riel - DC | D17: UND | E17: 1 | F17: =INSUMOS!E9 -> 28054.686 | H17: =F17*E17 -> 28054.686
B18: 9 | C18: Bloque de distribucion aislado (barraje) | D18: UND | E18: 3 | F18: =INSUMOS!E10 -> 59821.443 | H18: =F18*E18 -> 179464.33
B19: 10 | C19: Descargador de sobretensiones (DPS) | D19: UND | E19: 1 | F19: =INSUMOS!E11 -> 243160.89 | H19: =F19*E19 -> 243160.89
B20: 11 | C20: Cable de cobre desnudo #8 AWG | D20: M | E20: 1 | F20: =INSUMOS!E64 -> 10993.439 | H20: =F20*E20 -> 10993.439
B21: 12 | C21: Ingeniero Diseñador 10 de junio del 2024 | D21: M | E21: 0.1 | F21: =INSUMOS!E65 -> 4888.5113 | H21: =F21*E21 -> 488.85113
B22: 13 | C22: Hebilla en acero inoxidable 1/2" | D22: UND | E22: 2 | F22: =INSUMOS!E66 -> 1090.7776 | H22: =F22*E22 -> 2181.5553
B23: 14 | C23: Riel omega, incluye remaches | D23: M | E23: 1 | F23: =INSUMOS!E12 -> 27782.713 | H23: =F23*E23 -> 27782.713
B24: 15 | C24: Freno para borna tipo riel | D24: UND | E24: 1 | F24: =INSUMOS!E60 -> 22358.086 | H24: =F24*E24 -> 22358.086
B25: 16 | C25: Prensa estopa plastica 3/4". | D25: UND | E25: 0.2 | F25: =INSUMOS!E13 -> 8252.2182 | H25: =F25*E25 -> 1650.4436
B26: 17 | C26: Conector recto para coraza 3/4". | D26: UND | E26: 1 | F26: =INSUMOS!E14 -> 6567.5093 | H26: =F26*E26 -> 6567.5093
B27: 18 | C27: Conector curvo para coraza de 3/4". | D27: UND | E27: 1 | F27: =INSUMOS!E15 -> 10233.893 | H27: =F27*E27 -> 10233.893
B28: 19 | C28: Coraza americana, alma en acero 3/4" | D28: M | E28: 0.2 | F28: =INSUMOS!E16 -> 10399.508 | H28: =F28*E28 -> 2079.9016
B29: 20 | C29: Consumibles (amarres, marquillas, cinta de marcación y/o aislante, etc) | D29: UND | E29: 1 | F29: =INSUMOS!E17 -> 18029.241 | H29: =F29*E29 -> 18029.241
C30: SUBTOTAL MATERIALES | H30: =SUM(H10:H29) -> 3327394.2
B31: EQUIPOS Y HERRAMIENTAS
B32: ÍTEM | C32: DESCRIPCIÓN EQUIPOS y HERRAMIENTAS | D32: TIPO | E32: Tarifa/día | F32: Rendimiento | G32: VR. ÍTEM | H32: VR. PARCIAL
B33: 1 | C33: Herramienta menor (5% de la mano de obra) | D33: UND | E33: 5576.7626 | F33: 1 | G33: =F33*E33 -> 5576.7626 | H33: =G33 -> 5576.7626
B34: 2 | C34: Herramienta especial para conexión y verificacion de la planta solar FV. | D34: UND | E34: =INSUMOS!E94 -> 38625 | F34: 1 | G34: =F34*E34 -> 38625 | H34: =G34 -> 38625
C35: SUBTOTAL EQUIPOS Y HERRAMIENTAS | H35: =SUM(H33:H34) -> 44201.763
B36: TRANSPORTES
B37: ÍTEM | C37: DESCRIPCIÓN TRANSPORTES | D37: UNID. | E37: PESO | F37: TARIFA/Kg | G37: DISTANCIA | H37: VR. PARCIAL
B38: 1 | C38: =+TRANSPORTE!C4 -> Transporte Maritimo Puerto Buenaventura - Jurado | D38: KG | E38: 64 | F38: =+TRANSPORTE!E4 -> 50 | G38: =+TRANSPORTE!F4 -> 446.28 | H38: =F38*E38*G38 -> 1428096
B39: 2 | C39: =+TRANSPORTE!C5 -> Transporte Fluvial terrestre Jurado - Resguardos | D39: KG | E39: 64 | F39: =+TRANSPORTE!E5 -> 110 | G39: =+TRANSPORTE!F5 -> 60 | H39: =F39*E39*G39 -> 422400
B40: 3 | C40: =+TRANSPORTE!C6 -> Transporte terrestre animal - lomo de hombre | D40: KG | E40: 64 | F40: =+TRANSPORTE!E6 -> 200 | G40: =+TRANSPORTE!F6 -> 15 | H40: =F40*E40*G40 -> 192000
C42: SUBTOTAL TRANSPORTES | H42: =SUM(H38:H40) -> 2042496
B43: MANO DE OBRA
...

Sheet AIU
A2: INSTALACIÓN DE SOLUCIONES ENERGÉTICAS PARA BENEFICIAR LAS COMUNIDADES INIDIGENAS DEL RESGUARDO NUSSI PURRU EN ZONAS NO INTERCONECTADAS DEL MUNICIPIO DE JURADO - CHOCO
A3: ANÁLISIS DE AIU
A5: TOTAL COSTOS DIRECTOS | C5: ='PPTO. GENERAL'!K19 -> 4.913328e+09
A6: DURACIÓN DE OBRA EN MESES | C6: 7
A8: COSTOS ADMINISTRATIVOS
A9: HONORARIOS, SUELDOS Y VIÁTICOS
A10: ITEM | B10: DESCRIPCION | C10: UNIDAD | D10: Cant /Personas | E10: Cant/ Meses | F10: % DEDICACIÓN | G10: V.UNITARIO | H10: F. PRESTACIONAL | I10: V.PARCIAL | J10: %
A11: Personal Profesional
A12: 1 | B12: DIRECTOR DE PROYECTO | C12: MES | D12: 1 | E12: =C6 -> 7 | F12: 0.3 | G12: =+FP!C13 -> 8000000 | H12: =FP!D45 -> 1.7029 | I12: =H12*G12*F12*E12*D12 -> 28608720 | J12: =I12/$C$5 -> 0.0058226766
A13: 2 | B13: INGENIERO RESIDENTE _1 | C13: MES | D13: 1 | E13: =C6 -> 7 | F13: 1 | G13: =+FP!E13 -> 6000000 | H13: =FP!F45 -> 1.7029 | I13: =H13*G13*F13*E13*D13 -> 71521800 | J13: =I13/$C$5 -> 0.014556691
A14: 3 | B14: PROFESIONAL AMBIENTAL | C14: MES | D14: 1 | E14: =E13 -> 7 | F14: 0.5 | G14: =+FP!G13 -> 2800000 | H14: =FP!H45 -> 1.7029 | I14: =H14*G14*F14*E14*D14 -> 16688420 | J14: =I14/$C$5 -> 0.0033965613
A15: 4 | B15: ASESORIA CONTABLE | C15: MES | D15: 1 | E15: =E14 -> 7 | F15: 0.3 | G15: =+FP!I13 -> 3000000 | H15: =FP!J45 -> 1.7133 | I15: =H15*G15*F15*E15*D15 -> 10793790 | J15: =I15/$C$5 -> 0.0021968389
A17: Personal Técnico
A18: 5 | B18: AUXILIAR DE INGENIERIA_1 | C18: MES | D18: 2 | E18: =E15 -> 7 | F18: 0.6 | G18: =+FP!M13 -> 1800000 | H18: =FP!N45 -> 1.8129 | I18: =H18*G18*F18*E18*D18 -> 27411048 | J18: =I18/C5 -> 0.0055789168
A19: 6 | B19: ALMACENISTA_1 | C19: MES | D19: 2 | E19: =E18 -> 7 | F19: 0.3 | G19: =+FP!AC13 -> 1600000 | H19: =FP!AD45 -> 1.7346 | I19: =H19*G19*F19*E19*D19 -> 11656512 | J19: =I19/C5 -> 0.002372427
A20: Personal Administrativo
A21: 7 | B21: SECRETARIA | C21: Ingeniero Diseñador 10 de junio del 2024 | D21: 1 | E21: =E19 -> 7 | F21: 1 | G21: =+FP!AE13 -> 1800000 | H21: =H19 -> 1.7346 | I21: =H21*G21*F21*E21*D21 -> 21855960 | J21: =I21/C5 -> 0.0044483006
A23: VIATICOS, DOCUMENTOS Y OTROS
A24: ITEM | B24: DESCRIPCION | C24: UNIDAD | E24: Cant/ Meses | F24: % UTILIZACIÓN | G24: V.UNITARIO | H24: Tiempo (dias) | I24: V.PARCIAL | J24: %
A25: COSTOS DE ALQUILER DE EQUIPOS Y OFICINA
A26: 1 | B26: Alquiler Camioneta 4x2, 2.0 cc incluye conductor y combustible | C26: mes | D26: 1 | E26: =E21 -> 7 | F26: 1 | G26: 8000000 | I26: =G26*F26*E26*D26 -> 56000000 | J26: =I26/$C$5 -> 0.01139757
A27: 2 | B27: Alquiler Lancha incluye conductor y combustible | C27: mes | D27: 1 | E27: =E26 -> 7 | F27: 1 | G27: 12000000 | I27: =G27*F27*E27*D27 -> 84000000 | J27: =I27/$C$5 -> 0.017096355
A28: 3 | B28: Oficina (Incluye servicios públicos) | C28: mes | D28: 1 | E28: =E27 -> 7 | F28: 1 | G28: 1000000 | I28: =G28*F28*E28*D28 -> 7000000
A29: COSTOS VARIOS
A30: 3 | B30: Informes, papelería, reproducciòn de documentos, planos, fotografias | C30: mes | D30: 1 | E30: =E27 -> 7 | F30: 0.3 | G30: 350000 | I30: =G30*F30*E30*D30 -> 735000 | J30: =I30/$C$5 -> 0.00014959311
A31: 4 | B31: Comunicaciones (telefonía fija o celular, fax, correo, etc.) | C31: mes | D31: 1 | E31: =E30 -> 7 | F31: 0.5 | G31: 250000 | I31: =G31*F31*E31*D31 -> 875000 | J31: =I31/$C$5 -> 0.00017808703
A32: 5 | B32: Valla informativa 2 x 4,5 m | C32: mes | D32: 1 | E32: 1 | F32: 1 | G32: 3200000 | I32: =G32*F32*D32*E32 -> 3200000 | J32: =I32/$C$5 -> 0.00065128971
A33: COSTOS DE LEGALIZACIÓN (CERTIFICACIONES DE RETENCIONES)
A34: Estampilla | C34: Artículo o Estatuto | J34: %
B35: Polizas de cumplimiento | I35: =+J35*C5 -> 1.228332e+08 | J35: 0.025
B36: Gastos de legalizacion | C36: Ley 1276 de 2009 - Acuerdo Municipal No. 025 de 2013 | I36: =+J36*C5 -> 98266560 | J36: 0.02
A37: 8 | B37: Total Costos de legalización (Certificaciones de retenciones)
A38: TOTAL COSTOS ADMINISTRATIVOS | I38: =I12+I13+I14+I15+I18+I19+I21+I26+I27+I28+I30+I31+I32+I35+I36 -> 5.6144601e+08 | J38: =I38/C5 -> 0.11427
A40: IMPREVISTOS
A41: ITEM | B41: DESCRIPCION | C41: UNIDAD | E41: CANT | F41: % UTILIZACIÓN | G41: V.UNITARIO | I41: V.PARCIAL | J41: %
A42: 1 | B42: IMPREVISTOS (2%) | C42: UND | E42: 1 | F42: =+J52 -> 0.02 | G42: =F42*C5 -> 98266560 | I42: =G42 -> 98266560 | J42: =F42 -> 0.02
A43: TOTAL IMPREVISTOS | J43: =J42 -> 0.02
A45: UTILIDADES
A46: ITEM | B46: DESCRIPCION | C46: UNIDAD | E46: CANT | F46: % UTILIZACIÓN | G46: V.UNITARIO | I46: V.PARCIAL | J46: %
A47: 1 | B47: UTILIDAD (5%) | C47: UND | E47: 1 | F47: =+J54 -> 0.05 | G47: =C5*F47 -> 2.456664e+08 | I47: =G47 -> 2.456664e+08 | J47: =F47 -> 0.05
...

Sheet INTERVENTORÍA
A2: INSTALACIÓN DE SOLUCIONES ENERGÉTICAS PARA BENEFICIAR LAS COMUNIDADES INIDIGENAS DEL RESGUARDO NUSSI PURRU EN ZONAS NO INTERCONECTADAS DEL MUNICIPIO DE JURADO - CHOCO
A3: ANÁLISIS DE INTERVENTORIA
A5: TOTAL COSTOS DIRECTOS+INDIRECTOS | C5: =AIU!C5 -> 4.913328e+09
A6: DURACIÓN DE INTERVENTORIA EN MESES | C6: =AIU!C6 -> 7
A8: COSTOS INTERVENTORÍA
A9: ITEM | B9: DESCRIPCION | C9: UNIDAD | D9: Cant /Personas | E9: Cant/ Meses | F9: % DEDICACIÓN | G9: V.UNITARIO | H9: F. PRESTACIONAL | I9: V.PARCIAL | J9: %
A10: HONORARIOS, SUELDOS Y VIÁTICOS
A11: Personal Profesional
A12: Personal Profesional
A13: 1 | B13: DIRECTOR DE PROYECTO | C13: MES | D13: 1 | E13: =C6 -> 7 | F13: =AIU!F12 -> 0.3 | G13: =AIU!G12 -> 8000000 | H13: =FM!$E$22 -> 0.0162 | I13: =H13*G13*F13*E13*D13 -> 272160 | J13: =I13/$C$5 -> 5.539219e-05
A14: 2 | B14: INGENIERO RESIDENTE _1 | C14: MES | D14: 1 | E14: =C6 -> 7 | F14: =AIU!F13 -> 1 | G14: =AIU!G13 -> 6000000 | H14: =FM!$E$22 -> 0.0162 | I14: =H14*G14*F14*E14*D14 -> 680400 | J14: =I14/$C$5 -> 0.00013848048
A15: 3 | B15: PROFESIONAL AMBIENTAL | C15: MES | D15: 1 | E15: =E14 -> 7 | F15: =AIU!F14 -> 0.5 | G15: =AIU!G14 -> 2800000 | H15: =FM!$E$22 -> 0.0162 | I15: =H15*G15*F15*E15*D15 -> 158760 | J15: =I15/$C$5 -> 3.2312111e-05
A16: 4 | B16: ASESORIA CONTABLE | C16: MES | D16: 1 | E16: =E15 -> 7 | F16: =AIU!F15 -> 0.3 | G16: =AIU!G15 -> 3000000 | H16: =FM!$E$22 -> 0.0162 | I16: =H16*G16*F16*E16*D16 -> 102060 | J16: =I16/$C$5 -> 2.0772071e-05
A17: Personal Técnico
A18: 5 | B18: AUXILIAR DE INGENIERIA_1 | C18: MES | D18: 1 | E18: =E16 -> 7 | F18: =AIU!F18 -> 0.6 | G18: =AIU!G18 -> 1800000 | H18: =H16 -> 0.0162 | I18: =H18*G18*F18*E18*D18 -> 122472 | J18: =I18/C5 -> 2.4926486e-05
A20: Personal Administrativo
A21: 6 | B21: SECRETARIA | C21: Ingeniero Diseñador 10 de junio del 2024 | D21: 1 | E21: =E18 -> 7 | F21: =AIU!F21 -> 1 | G21: =AIU!G21 -> 1800000 | H21: =H18 -> 0.0162 | I21: =H21*G21*F21*E21*D21 -> 204120 | J21: =I21/C5 -> 4.1544143e-05
A23: VIATICOS, DOCUMENTOS Y OTROS
A24: ITEM | B24: DESCRIPCION | C24: UNIDAD | E24: Cant/ Meses | F24: % UTILIZACIÓN | G24: V.UNITARIO | H24: Tiempo (dias) | I24: V.PARCIAL | J24: %
A25: COSTOS DE ALQUILER DE EQUIPOS Y OFICINA
A26: 1 | B26: =AIU!B26 -> Alquiler Camioneta 4x2, 2.0 cc incluye conductor y combustible | C26: mes | D26: 1 | E26: =E21 -> 7 | F26: 1 | G26: =AIU!G26 -> 8000000 | I26: =G26*F26*E26*D26 -> 56000000 | J26: =I26/$C$5 -> 0.01139757
A27: 2 | B27: =+AIU!B27 -> Alquiler Lancha incluye conductor y combustible | C27: =+AIU!C27 -> mes | D27: =+AIU!D27 -> 1 | E27: =+AIU!E27 -> 7 | F27: =+AIU!F27 -> 1 | G27: =+AIU!G27 -> 12000000 | I27: =G27*F27*E27*D27 -> 84000000 | J27: =I27/$C$5 -> 0.017096355
A28: 3 | B28: Oficina (Incluye servicios públicos) | C28: mes | D28: 1 | E28: =E26 -> 7 | F28: 1 | G28: =+AIU!G28 -> 1000000 | I28: =G28*F28*E28*D28 -> 7000000 | J28: =I28/$C$5 -> 0.0014246962
A29: COSTOS VARIOS
A30: 3 | B30: Informes, papelería, reproducciòn de documentos, planos, fotografias | C30: mes | D30: 1 | E30: =E28 -> 7 | F30: 0.3 | G30: =AIU!G30 -> 350000 | I30: =G30*F30*D30*E30 -> 735000 | J30: =I30/C5 -> 0.00014959311
A31: 4 | B31: Comunicaciones (telefonía fija o celular, fax, correo, etc.) | C31: mes | D31: 1 | E31: =E30 -> 7 | F31: 0.5 | G31: =AIU!G31 -> 250000 | I31: =G31*F31*D31*E31 -> 875000 | J31: =I31/C5 -> 0.00017808703
A32: COSTOS DE LEGALIZACIÓN (CERTIFICACIONES DE RETENCIONES)
A33: Estampilla | J33: %
B34: Estampilla Procultura | C34: Art. 38 ley 397 E 1997 Acuerdo Municipal No. 025 de 2013 | J34: 0.02
B35: Estampilla Proanciano | C35: Ley 1276 de 2009 - Acuerdo Municipal No. 025 de 2013 | J35: 0.04
B36: Fondo de Seguridad | C36: Impuesto ley 418 - Acuerdo Municipal No. 025 de 2013 | J36: 0.05
B37: Tasa Pro Deporte y Recreacion | C37: Art. 1 ley 2023 de 2020 - Acuerdo Municipal No. 025 de 2013 | J37: 0.025
A38: 8 | B38: Costos de legalización | J38: =J37+J36+J35+J34 -> 0.135
A40: SUBTOTAL COSTOS INTERVENTORÍA (%) | I40: =I38+I31+I30+I28+I26+I21+I18+I16+I15+I14+I13+I27 -> 150149972 | J40: =I40/C5 -> 0.030559729
A41: IVA (19%) | H41: 0.19 | I41: =I40*H41 -> 28528495
A42: TOTAL COSTOS INTERVENTORÍA (%) | I42: =I41+I40 -> 1.7867847e+08
A44: TOTAL COSTOS INTERVENTORÍA | J44: =I42/C5 -> 0.036366077
B46: Ingeniero Diseñador
B52: James Alexis Sánchez Perlaza
B53: Ingeniero Electricista
...

Sheet APOYO SUPERVISIÓN
A2: INSTALACIÓN DE SOLUCIONES ENERGÉTICAS PARA BENEFICIAR LAS COMUNIDADES INIDIGENAS DEL RESGUARDO NUSSI PURRU EN ZONAS NO INTERCONECTADAS DEL MUNICIPIO DE JURADO - CHOCO
A3: ANÁLISIS DE APOYO A LA SUPERVISIÓN DEL PROYECTO
A5: TOTAL COSTOS DIRECTOS | C5: ='PPTO. GENERAL'!K19 -> 4.913328e+09
A6: DURACIÓN EN MESES | C6: =+AIU!C6 -> 7
A8: COSTOS APOYO A LA SUPERVISIÓN DEL PROYECTO
A9: ITEM | B9: DESCRIPCION | C9: UNIDAD | D9: CANT | E9: % DEDICACIÓN | F9: V.UNITARIO | G9: F.M. | I9: V.PARCIAL | J9: %
A10: HONORARIOS, SUELDOS Y VIÁTICOS
A11: 1 | B11: INGENIERO DE APOYO A LA SUPERVISION | C11: MES | D11: =C6 -> 7 | E11: 1 | F11: =+INTERVENTORÍA!G13 -> 8000000 | G11: 1.62 | H11: =+G11*F11 -> 12960000 | I11: =+H11*D11 -> 90720000 | J11: =I11/C5 -> 0.018464063
A13: TOTAL COSTOS APOYO A LA SUPERVISIÓN (%) | J13: =J11 -> 0.018464063
A15: TOTAL COSTOS APOYO A LA SUPERVISIÓN | J15: =J13 -> 0.018464063
B17: Ingeniero Diseñador
C21: Ingeniero Diseñador 10 de junio del 2024
B23: James Alexis Sánchez Perlaza
B24: Ingeniero Electricista
B25: CC. 79.794.540
B26: M.P. : VL205-84689

Sheet CAPACITACIÓN
A2: INSTALACIÓN DE SOLUCIONES ENERGÉTICAS PARA BENEFICIAR LAS COMUNIDADES INIDIGENAS DEL RESGUARDO NUSSI PURRU EN ZONAS NO INTERCONECTADAS DEL MUNICIPIO DE JURADO - CHOCO
A3: ANÁLISIS DE CAPACITACION DEL PROYECTO
A5: TOTAL COSTOS DIR+ IND+INT | C5: ='PPTO. GENERAL'!K19 -> 4.913328e+09
A6: DURACIÓN EN MESES | C6: 1
A8: COSTOS CAPACITACION DEL PROYECTO
A9: ITEM | B9: DESCRIPCION | C9: UNIDAD | D9: CANT | E9: % DEDICACIÓN | F9: V.UNITARIO | G9: F.P | H9: V.PARCIAL
A10: 1 | B10: PROFESIONAL ELECTRICISTA | C10: DIA | D10: 3 | E10: 1 | F10: =+FP!G13/30 -> 93333.333 | G10: 1.6583333 | H10: =G10*F10*E10*D10 -> 464333.33
A11: 2 | B11: AUXILIAR TECNICO | C11: DIA | D11: 3 | E11: 1 | F11: =+FP!M13/30 -> 60000 | G11: 1.6583333 | H11: =G11*F11*E11*D11 -> 298500
A12: 3 | B12: AUXILIAR TECNICO | C12: VIVIENDAS | D12: 150 | E12: 1 | F12: =+F11 -> 60000 | G12: 1.6583333 | H12: =G12*F12*E12*D12 -> 14925000
A13: TOTAL
A15: DOCUMENTOS Y OTROS
A16: ITEM | B16: DESCRIPCION | C16: UNIDAD | D16: CANT | E16: % UTILIZACIÓN | F16: V.UNITARIO | G16: IVA | H16: V.PARCIAL
A17: 1 | B17: Papelería | C17: Actas | D17: =+D10 -> 3 | E17: 1 | F17: 1500 | H17: =F17*E17*D17 -> 4500
A18: 2 | B18: Alquiler de Audiovisuales | C18: DIA | D18: 3 | E18: 1 | F18: 120000 | H18: =F18*E18*D18 -> 360000
A19: 3 | B19: Cartilla de socialización (150 Usuarios mas 10 % de desperdicio) | C19: UND | D19: 165 | E19: 1 | F19: 30000 | G19: 1.19 | H19: =F19*E19*D19*G19 -> 5890500
A20: 4 | B20: Alquiler de salon para 50 personas | C20: DIA | D20: 3 | E20: 1 | F20: 250000 | H20: =F20*E20*D20 -> 750000
A21: 5 | B21: Refrigerios + 15%adicional para personal | C21: UNIDAD | D21: 165 | E21: 1 | F21: 14000 | H21: =F21*E21*D21 -> 2310000
A22: TOTAL | H22: =+H21+H20+H19+H18+H17+H12+H11+H10 -> 25002833
A24: TOTAL COSTOS APOYO A LA CAPACITACIÓN
B26: Ingeniero Diseñador
B32: James Alexis Sánchez Perlaza
B33: Ingeniero Electricista
B34: CC. 79.794.540
B35: M.P. : VL205-84689

Sheet INSUMOS
B2: ID | C2: DESCRIPCIÓN DE MATERIALES | D2: UNID. | E2: VR. UNIT.
B3: 1 | C3: Módulo solar cristalino de 450Wp | D3: UND | E3: 1296126.6
B4: 2 | C4: Tornillos en acero galvanizado 1/4" x 3/4, incluye tuerca, guaza y arandela. | D4: UND | E4: 773.21836
B5: 3 | C5: Conector MC4 hembra. | D5: UND | E5: 23105.256
B6: 4 | C6: Conector MC4 macho. | D6: UND | E6: 16460.807
B7: 5 | C7: Cable Solar 2,5 mm2 NEGRO. | D7: M | E7: 5209.0967
B8: 6 | C8: Caja de paso externa plástica con riel IP65 20x20 Cm doble fondo. | D8: UND | E8: 10621.037
B9: 7 | C9: Interruptor termomagnetico 15 A tipo riel - AC | D9: UND | E9: 28054.686
B10: 8 | C10: Bloque de distribucion aislado (barraje) | D10: UND | E10: 59821.443
B11: 9 | C11: Descargador de sobretensiones (DPS) | D11: UND | E11: 243160.89
B12: 10 | C12: Riel omega, incluye remaches | D12: M | E12: 27782.713
B13: 11 | C13: Prensa estopa plastica 3/4". | D13: UND | E13: 8252.2182
B14: 12 | C14: Conector recto para coraza 3/4". | D14: UND | E14: 6567.5093
... B91: 89 | C91: Batería Litio-Ion (LiFePO4) de 2840 Wh, 25,6 VDC, Ciclos 3650 a DoD del 80% y protección de temperatura | D91: UND | E91: 5301089.1
B93: ID | C93: DESCRIPCIÓN DE LA HERRAMIENTA | D93: UNID. | E93: VR. UNIT.
B94: 1 | C94: Herramienta especial para conexión y verificacion de la planta solar FV. | D94: UND | E94: 38625
B97: ID | C97: COSTOS MANO DE OBRA | E97: VR. UNIT.
B98: 1 | C98: Capataz | D98: JORNAL | E98: 174125.09
B99: 2 | C99: Electricista | D99: JORNAL | E99: 130593.84
B100: 3 | C100: Ayudante de Obra Civil | D100: JORNAL | E100: 101573.01
B101: 3 | C101: Auxiliar electricista | D101: JORNAL | E101: 101573.01
B102: 4 | C102: Oficial de construcción | D102: JORNAL | E102: 159614.68
B103: 5 | C103: Encuestador | D103: JORNAL | E103: 101573.01
C110: Ingeniero Diseñador
C116: James Alexis Sánchez Perlaza
C117: Ingeniero Electricista
C118: CC. 79.794.540
C119: M.P. : VL205-84689

Sheet TRANSPORTE
B3: ID | C3: COSTOS TRANSPORTE | E3: VR. UNIT. | F3: DISTANCIA
B4: 1 | C4: Transporte Maritimo Puerto Buenaventura - Jurado | D4: $/KG | E4: 50 | F4: 446.28
B5: 2 | C5: Transporte Fluvial terrestre Jurado - Resguardos | D5: $/KG | E5: 110 | F5: 60
B6: 3 | C6: Transporte terrestre animal - lomo de hombre | D6: $/KG | E6: 200 | F6: 15
C21: Ingeniero Diseñador 10 de junio del 2024

Sheet FM
B2: INSTALACIÓN DE SOLUCIONES ENERGÉTICAS PARA BENEFICIAR LAS COMUNIDADES INIDIGENAS DEL RESGUARDO NUSSI PURRU EN ZONAS NO INTERCONECTADAS DEL MUNICIPIO DE JURADO - CHOCO
B4: DESGLOSE FACTOR PRESTACIONAL
B5: 1 Salario Básico | E5: 1
B6: 2 Carga prestacional
C7: Prima de servicios. Prima de servicios. | E7: 0.0833
C8: Auxilio de cesantías. | E8: 0.0833
C9: Intereses sobre las cesantías | E9: 0.12
C10: Subtotal carga prestacional | E10: =SUM(E7:E9) -> 0.2866
C11: Vacaciones | E11: 0.0417
B12: Subtotal 1 | E12: =SUM(E10:E11) -> 0.3283
B13: 3 parafiscales
C14: Cajas de compensación familiar | E14: 0.04
C15: ICBF | E15: 0.02
C16: SENA | E16: 0.02
C17: Aportes a salud | E17: 0.085
C18: Aportes a pensión | E18: 0.12
C19: Riesgos laborales | E19: 0.004
B20: Subtotal 2 | E20: =SUM(E14:E19) -> 0.289
B21: 4 Honorarios (12% (1+2+3)) | C21: Ingeniero Diseñador 10 de junio del 2024 | E21: 0
B22: FACTOR MULTIPLICADOR | E22: 0.0162
E23: 0.0162
B26: Ingeniero Diseñador
B33: James Alexis Sánchez Perlaza
B34: Ingeniero Electricista
B35: CC. 79.794.540
B36: M.P. : VL205-84689

Sheet FP
B2: INSTALACIÓN DE SOLUCIONES ENERGÉTICAS PARA BENEFICIAR LAS COMUNIDADES INIDIGENAS DEL RESGUARDO NUSSI PURRU EN ZONAS NO INTERCONECTADAS DEL MUNICIPIO DE JURADO - CHOCO
B3: CALCULO DE FACTOR PRESTACIONAL PROFESIONALES
B6: SALARIO MINIMO | C6: 1300000 | D6: AÑO | E6: 2024
B7: SUBSIDIO DE TRANSPORTE | C7: 162000
B10: CARGO | C10: DIRECTOR DE OBRA | E10: RESIDENTE DE OBRA | G10: INGENIERO AMBIENTAL | I10: ASESORIA CONTABLE | K10: CONTADOR | M10: AUXILIAR DE INGENIERIA | O10: MAESTRO DE OBRA | Q10: TOPOGRAFO | S10: CADENERO | U10: VIGILANTE | W10: ALMACENISTA | Y10: SECRETARIA | AA10: AUX. DE TRANSITO | AC10: ALMACENISTA | AE10: SECRETARIA
C11: VALOR | D11: % | E11: VALOR | F11: % | G11: VALOR | H11: % | I11: VALOR | J11: % | K11: VALOR | L11: % | M11: VALOR | N11: % | O11: VALOR | P11: % | Q11: VALOR | R11: % | S11: VALOR | T11: % | U11: VALOR | V11: % | W11: VALOR | X11: % | Y11: VALOR | Z11: % | AA11: VALOR | AB11: % | AC11: VALOR | AD11: % | AE11: VALOR | AF11: %
B12: SALARIO AÑO 2024
B13: SALARIO BASE MES | C13: 8000000 | E13: 6000000 | G13: 2800000 | I13: 3000000 | K13: 2200000 | M13: 1800000 | O13: 3000000 | Q13: 2800000 | S13: 1950000 | U13: 1500000 | W13: 1500000 | Y13: 1400000 | AA13: =+C6 -> 1300000 | AC13: 1600000 | AE13: 1800000
B14: No. DE SALARIOS | C14: =+C13/$C$6 -> 6.1538462 | E14: =+E13/$C$6 -> 4.6153846 | G14: =+G13/$C$6 -> 2.1538462 | I14: =+I13/$C$6 -> 2.3076923 | K14: =+K13/$C$6 -> 1.6923077 | M14: =+M13/$C$6 -> 1.3846154 | O14: =+O13/$C$6 -> 2.3076923 | Q14: =+Q13/$C$6 -> 2.1538462 | S14: =+S13/$C$6 -> 1.5 | U14: =+U13/$C$6 -> 1.1538462 | W14: =+W13/$C$6 -> 1.1538462 | Y14: =+Y13/$C$6 -> 1.0769231 | AA14: =+AA13/$C$6 -> 1 | AC14: =+AC13/$C$6 -> 1.2307692 | AE14: =+AE13/$C$6 -> 1.3846154
B15: SALARIO BASE AÑO | C15: =12*C13 -> 96000000 | D15: 1 | E15: =12*E13 -> 72000000 | F15: 1 | G15: =12*G13 -> 33600000 | H15: 1 | I15: =12*I13 -> 36000000 | J15: 1 | K15: =12*K13 -> 26400000 | L15: 1 | M15: =12*M13 -> 21600000 | N15: 1 | O15: =12*O13 -> 36000000 | P15: 1 | Q15: =12*Q13 -> 33600000 | R15: 1 | S15: =12*S13 -> 23400000 | T15: 1 | U15: =12*U13 -> 18000000 | V15: 1 | W15: =12*W13 -> 18000000 | X15: 1 | Y15: =12*Y13 -> 16800000 | Z15: 1 | AA15: =12*AA13 -> 15600000 | AB15: 1 | AC15: =12*AC13 -> 19200000 | AD15: 1 | AE15: =12*AE13 -> 21600000 | AF15: 1
C17: VALORES ANUALES | D17: % ANUALES | E17: VALORES ANUALES | F17: % ANUALES | G17: VALORES ANUALES | H17: % ANUALES | I17: VALORES ANUALES | J17: % ANUALES | K17: VALORES ANUALES | L17: % ANUALES | M17: VALORES ANUALES | N17: % ANUALES | O17: VALORES ANUALES | P17: % ANUALES | Q17: VALORES ANUALES | R17: % ANUALES | S17: VALORES ANUALES | T17: % ANUALES | U17: VALORES ANUALES | V17: % ANUALES | W17: VALORES ANUALES | X17: % ANUALES | Y17: VALORES ANUALES | Z17: % ANUALES | AA17: VALORES ANUALES | AB17: % ANUALES | AC17: VALORES ANUALES | AD17: % ANUALES | AE17: VALORES ANUALES | AF17: % ANUALES
B18: SUBSIDIO DE TRANSPORTE (MES) | C18: =IF(C14<=2,$C$7,0) -> 0 | E18: =IF(E14<=2,$C$7,0) -> 0 | G18: =IF(G14<=2,$C$7,0) -> 0 | I18: =IF(I14<=2,$C$7,0) -> 0 | K18: =IF(K14<=2,$C$7,0) -> 162000 | M18: =IF(M14<=2,$C$7,0) -> 162000 | O18: =IF(O14<=2,$C$7,0) -> 0 | Q18: =IF(Q14<=2,$C$7,0) -> 0 | S18: =IF(S14<=2,$C$7,0) -> 162000 | U18: =IF(U14<=2,$C$7,0) -> 162000 | W18: =IF(W14<=2,$C$7,0) -> 162000 | Y18: =IF(Y14<=2,$C$7,0) -> 162000 | AA18: =IF(AA14<=2,$C$7,0) -> 162000 | AC18: =IF(AC14<=2,$C$7,0) -> 162000 | AE18: =IF(AE14<=2,$C$7,0) -> 162000
B20: SUBSIDIO DE TRANSPORTE
B21: SUBSIDIO DE TRANSPORTE (ANUAL) | C21: =12*C18 -> 0 | D21: =+C21/C15 -> 0 | E21: =12*E18 -> 0 | F21: =+E21/E15 -> 0 | G21: =12*G18 -> 0 | H21: =+G21/G15 -> 0 | I21: =12*I18 -> 0 | J21: =+I21/I15 -> 0 | K21: =12*K18 -> 1944000 | L21: =+K21/K15 -> 0.073636364 | M21: =12*M18 -> 1944000 | N21: =+M21/M15 -> 0.09 | O21: =12*O18 -> 0 | P21: =+O21/O15 -> 0 | Q21: =12*Q18 -> 0 | R21: =+Q21/Q15 -> 0 | S21: =12*S18 -> 1944000 | T21: =+S21/S15 -> 0.083076923 | U21: =12*U18 -> 1944000 | V21: =+U21/U15 -> 0.108 | W21: =12*W18 -> 1944000 | X21: =+W21/W15 -> 0.108 | Y21: =12*Y18 -> 1944000 | Z21: =+Y21/Y15 -> 0.11571429 | AA21: =12*AA18 -> 1944000 | AB21: =+AA21/AA15 -> 0.12461538 | AC21: =12*AC18 -> 1944000 | AD21: =+AC21/AC15 -> 0.10125 | AE21: =12*AE18 -> 1944000 | AF21: =+AE21/AE15 -> 0.09
C22: Ingeniero Diseñador 10 de junio del 2024
B23: PRESTACIONES SOCIALES
B24: CESANTIAS ANUALES | C24: =+(C15+C21)*30/360 -> 8000000 | D24: =+C24/C15 -> 0.083333333 | E24: =+(E15+E21)*30/360 -> 6000000 | F24: =+E24/E15 -> 0.083333333 | G24: =+(G15+G21)*30/360 -> 2800000 | H24: =+G24/G15 -> 0.083333333 | I24: =+(I15+I21)*30/360 -> 3000000 | J24: =+I24/I15 -> 0.083333333 | K24: =+(K15+K21)*30/360 -> 2362000 | L24: =+K24/K15 -> 0.089469697 | M24: =+(M15+M21)*30/360 -> 1962000 | N24: =+J24 -> 0.083333333 | O24: =+(O15+O21)*30/360 -> 3000000 | P24: =+O24/O15 -> 0.083333333 | Q24: =+(Q15+Q21)*30/360 -> 2800000 | R24: =+Q24/Q15 -> 0.083333333 | S24: =+(S15)*30/360 -> 1950000 | T24: =+S24/S15 -> 0.083333333 | U24: =+(U15)*30/360 -> 1500000 | V24: =+U24/U15 -> 0.083333333 | W24: =+(W15)*30/360 -> 1500000 | X24: =+W24/W15 -> 0.083333333 | Y24: =+(Y15)*30/360 -> 1400000 | Z24: =+Y24/Y15 -> 0.083333333 | AA24: =+(AA15)*30/360 -> 1300000 | AB24: =+AA24/AA15 -> 0.083333333 | AC24: =+(AC15+AC21)*30/360 -> 1762000 | AD24: =+N24 -> 0.083333333 | AE24: =+(AE15+AE21)*30/360 -> 1962000 | AF24: =+AD24 -> 0.083333333
B25: INTERESES DE CESANTIAS | C25: =0.12*C24 -> 960000 | D25: =+C25/C15 -> 0.01 | E25: =0.12*E24 -> 720000 | F25: =+E25/E15 -> 0.01 | G25: =0.12*G24 -> 336000 | H25: =+G25/G15 -> 0.01 | I25: =0.12*I24 -> 360000 | J25: =+I25/I15 -> 0.01 | K25: =0.12*K24 -> 283440 | L25: =+K25/K15 -> 0.010736364 | M25: =0.12*M24 -> 235440 | N25: =+J25 -> 0.01 | O25: =0.12*O24 -> 360000 | P25: =+O25/O15 -> 0.01 | Q25: =0.12*Q24 -> 336000 | R25: =+Q25/Q15 -> 0.01 | S25: =0.12*S24 -> 234000 | T25: =+S25/S15 -> 0.01 | U25: =0.12*U24 -> 180000 | V25: =+U25/U15 -> 0.01 | W25: =0.12*W24 -> 180000 | X25: =+W25/W15 -> 0.01 | Y25: =0.12*Y24 -> 168000 | Z25: =+Y25/Y15 -> 0.01 | AA25: =0.12*AA24 -> 156000 | AB25: =+AA25/AA15 -> 0.01 | AC25: =0.12*AC24 -> 211440 | AD25: =+N25 -> 0.01 | AE25: =0.12*AE24 -> 235440 | AF25: =+AD25 -> 0.01
B26: PRIMA | C26: =30*C15/360 -> 8000000 | D26: =C26/C15 -> 0.083333333 | E26: =30*E15/360 -> 6000000 | F26: =+E26/E15 -> 0.083333333 | G26: =30*G15/360 -> 2800000 | H26: =+G26/G15 -> 0.083333333 | I26: =30*I15/360 -> 3000000 | J26: =+I26/I15 -> 0.083333333 | K26: =30*K15/360 -> 2200000 | L26: =+K26/K15 -> 0.083333333 | M26: =30*M15/360 -> 1800000 | N26: =+M26/M15 -> 0.083333333 | O26: =30*O15/360 -> 3000000 | P26: =+O26/O15 -> 0.083333333 | Q26: =30*Q15/360 -> 2800000 | R26: =+Q26/Q15 -> 0.083333333 | S26: =30*S15/360 -> 1950000 | T26: =+S26/S15 -> 0.083333333 | U26: =30*U15/360 -> 1500000 | V26: =+U26/U15 -> 0.083333333 | W26: =30*W15/360 -> 1500000 | X26: =+W26/W15 -> 0.083333333 | Y26: =30*Y15/360 -> 1400000 | Z26: =+Y26/Y15 -> 0.083333333 | AA26: =30*AA15/360 -> 1300000 | AB26: =+AA26/AA15 -> 0.083333333 | AC26: =30*AC15/360 -> 1600000 | AD26: =+AC26/AC15 -> 0.083333333 | AE26: =30*AE15/360 -> 1800000 | AF26: =+AE26/AE15 -> 0.083333333
B27: VACACIONES REMUNERADAS - 15 DIAS HABILES | C27: =15*C13/30 -> 4000000 | D27: =+C27/C15 -> 0.041666667 | E27: =15*E13/30 -> 3000000 | F27: =+E27/E15 -> 0.041666667 | G27: =15*G13/30 -> 1400000 | H27: =+G27/G15 -> 0.041666667 | I27: =15*I13/30 -> 1500000 | J27: =+I27/I15 -> 0.041666667 | K27: =15*K13/30 -> 1100000 | L27: =+K27/K15 -> 0.041666667 | M27: =15*M13/30 -> 900000 | N27: =+M27/M15 -> 0.041666667 | O27: =15*O13/30 -> 1500000 | P27: =+O27/O15 -> 0.041666667 | Q27: =15*Q13/30 -> 1400000 | R27: =+Q27/Q15 -> 0.041666667 | S27: =15*S13/30 -> 975000 | T27: =+S27/S15 -> 0.041666667 | U27: =15*U13/30 -> 750000 | V27: =+U27/U15 -> 0.041666667 | W27: =15*W13/30 -> 750000 | X27: =+W27/W15 -> 0.041666667 | Y27: =15*Y13/30 -> 700000 | Z27: =+Y27/Y15 -> 0.041666667 | AA27: =15*AA13/30 -> 650000 | AB27: =+AA27/AA15 -> 0.041666667 | AC27: =15*AC13/30 -> 800000 | AD27: =+AC27/AC15 -> 0.041666667 | AE27: =15*AE13/30 -> 900000 | AF27: =+AE27/AE15 -> 0.041666667
B29: SEGURIDAD SOCIAL
B30: SALUD (ARTICULO 10, LEY 1122 DEL 2007 Y ARTICULO 25 LEY 1607 DEL 2012) | C30: =+D30*C15 -> 8160000 | D30: 0.085 | E30: =+F30*E15 -> 6120000 | F30: 0.085 | G30: =+H30*G15 -> 2856000 | H30: 0.085 | I30: =+J30*I15 -> 3060000 | J30: 0.085 | K30: =+L30*K15 -> 2244000 | L30: 0.085 | M30: =+N30*M15 -> 1836000 | N30: 0.085 | O30: =+P30*O15 -> 3060000 | P30: 0.085 | Q30: =+R30*Q15 -> 2856000 | R30: 0.085 | S30: =+T30*S15 -> 1989000 | T30: 0.085 | U30: =+V30*U15 -> 1530000 | V30: 0.085 | W30: =+X30*W15 -> 1530000 | X30: 0.085 | Y30: =+Z30*Y15 -> 1428000 | Z30: 0.085 | AA30: =+AB30*AA15 -> 1326000 | AB30: 0.085 | AC30: =+AD30*AC15 -> 1632000 | AD30: 0.085 | AE30: =+AF30*AE15 -> 1836000 | AF30: 0.085
B31: PENSIONES (LEY 797 DE 2003, ARTICULO 7 Y DECRETO 4982 DE 2007) | C31: =+D31*C15 -> 11520000 | D31: 0.12 | E31: =+F31*E15 -> 8640000 | F31: 0.12 | G31: =+H31*G15 -> 4032000 | H31: 0.12 | I31: =+J31*I15 -> 4320000 | J31: 0.12 | K31: =+L31*K15 -> 3168000 | L31: 0.12 | M31: =+N31*M15 -> 2592000 | N31: 0.12 | O31: =+P31*O15 -> 4320000 | P31: 0.12 | Q31: =+R31*Q15 -> 4032000 | R31: 0.12 | S31: =+T31*S15 -> 2808000 | T31: 0.12 | U31: =+V31*U15 -> 2160000 | V31: 0.12 | W31: =+X31*W15 -> 2160000 | X31: 0.12 | Y31: =+Z31*Y15 -> 2016000 | Z31: 0.12 | AA31: =+AB31*AA15 -> 1872000 | AB31: 0.12 | AC31: =+AD31*AC15 -> 2304000 | AD31: 0.12 | AE31: =+AF31*AE15 -> 2592000 | AF31: 0.12
B32: RIESGOS PROFESIONALES ARL (DECRETO 1772 DE 1994 ARTICULO 13) | C32: =+D32*C15 -> 6681600 | D32: 0.0696 | E32: =+F32*E15 -> 5011200 | F32: 0.0696 | G32: =+H32*G15 -> 2338560 | H32: 0.0696 | I32: =+J32*I15 -> 1800000 | J32: 0.05 | K32: =+L32*K15 -> 1837440 | L32: 0.0696 | M32: =+N32*M15 -> 1503360 | N32: 0.0696 | O32: =+P32*O15 -> 2505600 | P32: 0.0696 | Q32: =+R32*Q15 -> 2338560 | R32: 0.0696 | S32: =+T32*S15 -> 1628640 | T32: 0.0696 | U32: =+V32*U15 -> 1252800 | V32: 0.0696 | W32: =+X32*W15 -> 1252800 | X32: 0.0696 | Y32: =+Z32*Y15 -> 1169280 | Z32: 0.0696 | AA32: =+AB32*AA15 -> 1085760 | AB32: 0.0696 | AC32: =+AD32*AC15 -> 960000 | AD32: 0.05 | AE32: =+AF32*AE15 -> 1080000 | AF32: 0.05
B35: APORTES PARAFISCALES
B36: SENA-LEY 1607 DEL 2012 | C36: =+D36*C15 -> 0 | D36: 0 | E36: =+F36*E15 -> 0 | F36: 0 | G36: =+H36*G15 -> 0 | H36: 0 | I36: =+J36*I15 -> 0 | J36: 0 | K36: =+L36*K15 -> 0 | L36: 0 | M36: =+N36*M15 -> 0 | N36: 0 | O36: =+P36*O15 -> 0 | P36: 0 | Q36: =+R36*Q15 -> 0 | R36: 0 | S36: =+T36*S15 -> 0 | T36: 0 | U36: =+V36*U15 -> 0 | V36: 0 | W36: =+X36*W15 -> 0 | X36: 0 | Y36: =+Z36*Y15 -> 0 | Z36: 0 | AA36: =+AB36*AA15 -> 0 | AB36: 0 | AC36: =+AD36*AC15 -> 0 | AD36: 0 | AE36: =+AF36*AE15 -> 0 | AF36: 0
B37: ICBF-LEY 1607 DEL 2012 | C37: =+D37*C15 -> 0 | D37: 0 | E37: =+F37*E15 -> 0 | F37: 0 | G37: =+H37*G15 -> 0 | H37: 0 | I37: =+J37*I15 -> 0 | J37: 0 | K37: =+L37*K15 -> 0 | L37: 0 | M37: =+N37*M15 -> 0 | N37: 0 | O37: =+P37*O15 -> 0 | P37: 0 | Q37: =+R37*Q15 -> 0 | R37: 0 | S37: =+T37*S15 -> 0 | T37: 0 | U37: =+V37*U15 -> 0 | V37: 0 | W37: =+X37*W15 -> 0 | X37: 0 | Y37: =+Z37*Y15 -> 0 | Z37: 0 | AA37: =+AB37*AA15 -> 0 | AB37: 0 | AC37: =+AD37*AC15 -> 0 | AD37: 0 | AE37: =+AF37*AE15 -> 0 | AF37: 0
B38: CAJA DE COMPENSACION | C38: =IF(C14<=10,0.04*C15,0) -> 3840000 | D38: =+C38/C15 -> 0.04 | E38: =IF(E14<=10,0.04*E15,0) -> 2880000 | F38: =+E38/E15 -> 0.04 | G38: =IF(G14<=10,0.04*G15,0) -> 1344000 | H38: =+G38/G15 -> 0.04 | I38: =IF(I14<=10,0.04*I15,0) -> 1440000 | J38: =+I38/I15 -> 0.04 | K38: =IF(K14<=10,0.04*K15,0) -> 1056000 | L38: =+K38/K15 -> 0.04 | M38: =IF(M14<=10,0.04*M15,0) -> 864000 | N38: =+M38/M15 -> 0.04 | O38: =IF(O14<=10,0.04*O15,0) -> 1440000 | P38: =+O38/O15 -> 0.04 | Q38: =IF(Q14<=10,0.04*Q15,0) -> 1344000 | R38: =+Q38/Q15 -> 0.04 | S38: =IF(S14<=10,0.04*S15,0) -> 936000 | T38: =+S38/S15 -> 0.04 | U38: =IF(U14<=10,0.04*U15,0) -> 720000 | V38: =+U38/U15 -> 0.04 | W38: =IF(W14<=10,0.04*W15,0) -> 720000 | X38: =+W38/W15 -> 0.04 | Y38: =IF(Y14<=10,0.04*Y15,0) -> 672000 | Z38: =+Y38/Y15 -> 0.04 | AA38: =IF(AA14<=10,0.04*AA15,0) -> 624000 | AB38: =+AA38/AA15 -> 0.04 | AC38: =IF(AC14<=10,0.04*AC15,0) -> 768000 | AD38: =+AC38/AC15 -> 0.04 | AE38: =IF(AE14<=10,0.04*AE15,0) -> 864000 | AF38: =+AE38/AE15 -> 0.04
B41: DOMINICALES Y FESTIVOS REMUNERADOS
B42: RECARGOS NOCTURNOS (DURANTE 10 DE LAS 12 HORAS QUE LLEGA A TRABAJAR) | C42: =+D42*C15 -> 9600000 | D42: 0.1 | E42: =+F42*E15 -> 7200000 | F42: 0.1 | G42: =+H42*G15 -> 3360000 | H42: 0.1 | I42: =+J42*I15 -> 5400000 | J42: 0.15 | K42: =+L42*K15 -> 0 | L42: 0 | M42: =+N42*M15 -> 3024000 | N42: 0.14 | O42: =+P42*O15 -> 6120000 | P42: 0.17 | Q42: =+R42*Q15 -> 6048000 | R42: 0.18 | S42: =+T42*S15 -> 2340000 | T42: 0.1 | U42: =+V42*U15 -> 2700000 | V42: 0.15 | W42: =+X42*W15 -> 1800000 | X42: 0.1 | Y42: =+Z42*Y20 -> 0 | Z42: 0 | AA42: =+AB42*AA15 -> 1560000 | AB42: 0.1 | AC42: =+AD42*AC15 -> 0 | AD42: 0 | AE42: =+AF42*AE15 -> 0 | AF42: 0
B43: OTROS AUXILIOS EMPRESARIALES | C43: =0.05*C15 -> 4800000 | D43: 0.07 | E43: =0.05*E15 -> 3600000 | F43: 0.07 | G43: =0.05*G15 -> 1680000 | H43: 0.07 | I43: =0.05*I15 -> 1800000 | J43: =+I43/I15 -> 0.05 | K43: =0.05*K15 -> 1320000 | L43: 0.12 | M43: =0.05*M15 -> 1080000 | N43: =+M43/M15 -> 0.05 | O43: =0.05*O15 -> 1800000 | P43: 0.1 | Q43: =+R43*Q15 -> 2352000 | R43: 0.07 | S43: =0.05*S15 -> 1170000 | T43: 0.06 | U43: =0.05*U15 -> 900000 | V43: 0.05 | W43: =0.05*W15 -> 900000 | X43: 0.09 | Y43: 489000 | Z43: 0.1 | AA43: =0.05*AA15 -> 780000 | AB43: 0.05 | AC43: =0.05*AC15 -> 960000 | AD43: 0.12 | AE43: =0.05*AE15 -> 1080000 | AF43: 0.15
B44: TOTAL PRESTACIONES | C44: =SUM(C20:C43) -> 65561600 | D44: =ROUND(SUM(D21:D43),4) -> 0.7029 | E44: =SUM(E20:E43) -> 49171200 | F44: =ROUND(SUM(F21:F43),4) -> 0.7029 | G44: =SUM(G20:G43) -> 22946560 | H44: =ROUND(SUM(H21:H43),4) -> 0.7029 | I44: =SUM(I20:I43) -> 25680000 | J44: =ROUND(SUM(J21:J43),4) -> 0.7133 | K44: =SUM(K20:K43) -> 17514880 | L44: =ROUND(SUM(L21:L43),4) -> 0.7334 | M44: =SUM(M20:M43) -> 17740800 | N44: =ROUND(SUM(N21:N43),4) -> 0.8129 | O44: =SUM(O20:O43) -> 27105600 | P44: =ROUND(SUM(P21:P43),4) -> 0.8029 | Q44: =SUM(Q20:Q43) -> 26306560 | R44: =ROUND(SUM(R21:R43),4) -> 0.7829 | S44: =SUM(S20:S43) -> 17924640 | T44: =ROUND(SUM(T21:T43),4) -> 0.776 | U44: =SUM(U20:U43) -> 15136800 | V44: =ROUND(SUM(V21:V43),4) -> 0.8409 | W44: =SUM(W20:W43) -> 14236800 | X44: =ROUND(SUM(X21:X43),4) -> 0.8309 | Y44: =SUM(Y20:Y43) -> 11386280 | Z44: =ROUND(SUM(Z21:Z43),4) -> 0.7486 | AA44: =SUM(AA20:AA43) -> 12597760 | AB44: =ROUND(SUM(AB21:AB43),4) -> 0.8075 | AC44: =SUM(AC20:AC43) -> 12941440 | AD44: =ROUND(SUM(AD21:AD43),4) -> 0.7346 | AE44: =SUM(AE20:AE43) -> 14293440 | AF44: =ROUND(SUM(AF21:AF43),4) -> 0.7533
B45: FACTOR PRESTACIONAL | D45: =1+D44 -> 1.7029 | F45: =1+F44 -> 1.7029 | H45: =1+H44 -> 1.7029 | J45: =1+J44 -> 1.7133 | L45: =1+L44 -> 1.7334 | N45: =1+N44 -> 1.8129 | P45: =1+P44 -> 1.8029 | R45: =1+R44 -> 1.7829 | T45: =1+T44 -> 1.776 | V45: =1+V44 -> 1.8409 | X45: =1+X44 -> 1.8309 | Z45: =1+Z44 -> 1.7486 | AB45: =1+AB44 -> 1.8075 | AD45: =1+AD44 -> 1.7346 | AF45: =1+AF44 -> 1.7533
B48: VALOR MES SIN FACTOR | C48: =+C15/12 -> 8000000 | E48: =+E15/12 -> 6000000 | G48: =+G15/12 -> 2800000 | I48: =+I15/12 -> 3000000 | K48: =+K15/12 -> 2200000 | M48: =+M15/12 -> 1800000 | O48: =+O15/12 -> 3000000 | Q48: =+Q15/12 -> 2800000 | S48: =+S15/12 -> 1950000 | U48: =+U15/12 -> 1500000 | W48: =+W15/12 -> 1500000 | Y48: =+Y15/12 -> 1400000 | AA48: =+AA15/12 -> 1300000 | AC48: =+AC15/12 -> 1600000 | AE48: =+AE15/12 -> 1800000
B49: VALOR DIA SIN FACTOR | C49: =+C48/30 -> 266666.67 | E49: =+E48/30 -> 200000 | G49: =+G48/30 -> 93333.333 | I49: =+I48/30 -> 100000 | K49: =+K48/30 -> 73333.333 | M49: =+M48/30 -> 60000 | O49: =+O48/30 -> 100000 | Q49: =+Q48/30 -> 93333.333 | S49: =+S48/30 -> 65000 | U49: =+U48/30 -> 50000 | W49: =+W48/30 -> 50000 | Y49: =+Y48/30 -> 46666.667 | AA49: =+AA48/30 -> 43333.333 | AC49: =+AC48/30 -> 53333.333 | AE49: =+AE48/30 -> 60000
B50: VALOR HORA SIN FACTOR | C50: =+C49/8 -> 33333.333 | E50: =+E49/8 -> 25000 | G50: =+G49/8 -> 11666.667 | I50: =+I49/8 -> 12500 | K50: =+K49/8 -> 9166.6667 | M50: =+M49/8 -> 7500 | O50: =+O49/8 -> 12500 | Q50: =+Q49/8 -> 11666.667 | S50: =+S49/8 -> 8125 | U50: =+U49/8 -> 6250 | W50: =+W49/8 -> 6250 | Y50: =+Y49/8 -> 5833.3333 | AA50: =+AA49/8 -> 5416.6667 | AC50: =+AC49/8 -> 6666.6667 | AE50: =+AE49/8 -> 7500
B51: VALOR MES CON FACTOR | C51: =+(C44+C15)/12 -> 13463467 | E51: =+(E44+E15)/12 -> 10097600 | G51: =+(G44+G15)/12 -> 4712213.3 | I51: =+(I44+I15)/12 -> 5140000 | K51: =+(K44+K15)/12 -> 3659573.3 | M51: =+(M44+M15)/12 -> 3278400 | O51: =+(O44+O15)/12 -> 5258800 | Q51: =+(Q44+Q15)/12 -> 4992213.3 | S51: =+(S44+S15)/12 -> 3443720 | U51: =+(U44+U15)/12 -> 2761400 | W51: =+(W44+W15)/12 -> 2686400 | Y51: =+(Y44+Y15)/12 -> 2348856.7 | AA51: =+(AA44+AA15)/12 -> 2349813.3 | AC51: =+(AC44+AC15)/12 -> 2678453.3 | AE51: =+(AE44+AE15)/12 -> 2991120
B52: VALOR DIA CON FACTOR | C52: =+C51/30 -> 448782.22 | E52: =+E51/30 -> 336586.67 | G52: =+G51/30 -> 157073.78 | I52: =+I51/30 -> 171333.33 | K52: =+K51/30 -> 121985.78 | M52: =+M51/30 -> 109280 | O52: =+O51/30 -> 175293.33 | Q52: =+Q51/30 -> 166407.11 | S52: =+S51/30 -> 114790.67 | U52: =+U51/30 -> 92046.667 | W52: =+W51/30 -> 89546.667 | Y52: =+Y51/30 -> 78295.222 | AA52: =+AA51/30 -> 78327.111 | AC52: =+AC51/30 -> 89281.778 | AE52: =+AE51/30 -> 99704
B53: VALOR HORA CON FACTOR | C53: =+C52/8 -> 56097.778 | E53: =+E52/8 -> 42073.333 | G53: =+G52/8 -> 19634.222 | I53: =+I52/8 -> 21416.667 | K53: =+K52/8 -> 15248.222 | M53: =+M52/8 -> 13660 | O53: =+O52/8 -> 21911.667 | Q53: =+Q52/8 -> 20800.889 | S53: =+S52/8 -> 14348.833 | U53: =+U52/8 -> 11505.833 | W53: =+W52/8 -> 11193.333 | Y53: =+Y52/8 -> 9786.9028 | AA53: =+AA52/8 -> 9790.8889 | AC53: =+AC52/8 -> 11160.222 | AE53: =+AE52/8 -> 12463
B57: =+FM!B33 -> James Alexis Sánchez Perlaza
...

Sheet CANTIDADES
B2: LISTADO DE BENEFICIARIOS COMUNIDADES INDIGENAS DEL MUNICIPIO DE JURADO BENEFICCIARIOS COMUNIDAD
B3: ITEM | C3: NOMBRE | D3: CEDULA | E3: COMUNIDAD | F3: COORDENADAS
B4: 1 | C4: NILSON VALDESPINO TAFU | D4: 1049443886 | E4: EYASAKE LA LOMA | F4: N 07° 15' 18.3” | G4: W 077° 46' 58.9”
B5: 2 | C5: DORINDO TAFU ACHITO | D5: 11851032 | E5: EYASAKE LA LOMA | F5: N 07° 15' 17.9” | G5: W 077° 46' 10.5”
B6: 3 | C6: CASILDO MESUA SALAZAR | D6: 1076876392 | E6: EYASAKE LA LOMA | F6: N 07° 15' 17.9” | G6: W 077° 46' 09.4” | J6: COMUNIDAD EYASAKE (LA LOMA) | K6: 59
B7: 4 | C7: FERNANDO PARIPARI DEQUIA | D7: 1076876294 | E7: EYASAKE LA LOMA | F7: N 07° 15' 17.4” | G7: W 077° 46' 11.7” | J7: =+E55 -> EYASAKE LA LOMA | K7: 91
B8: 5 | C8: HENRY TAFU VACORIZO | D8: 1193247256 | E8: EYASAKE LA LOMA | F8: N 07° 15' 17.2” | G8: W 077° 46' 09.9”
B9: 6 | C9: DAYDER ANDRES VERGARA TAFU | D9: 1003788317 | E9: EYASAKE LA LOMA | F9: N 07° 15' 17.2” | G9: W 077° 46' 09.1”
B10: 7 | C10: RAMON MESUA CUÑAPA | D10: 11850974 | E10: EYASAKE LA LOMA | F10: N 07° 15' 16.3” | G10: W 077° 46' 07.5”
B11: 8 | C11: NILDO SABUGARA MECHA | D11: 1076876991 | E11: EYASAKE LA LOMA | F11: N 07° 15' 17.7” | G11: W 077° 46' 11.3”
B12: 9 | C12: BINEIRA MATEGAY CHAJITO | D12: 1076877399 | E12: EYASAKE LA LOMA | F12: N 07° 15' 17.2” | G12: W 077° 46' 10.6”
B13: 10 | C13: FELIX ISMARE DEQUIA | D13: 11851375 | E13: EYASAKE LA LOMA | F13: N 07° 15' 16.1” | G13: W 077° 46' 11.7”
B14: 11 | C14: DARIO VALDESPINO DOGIRAMA | D14: 11850850 | E14: EYASAKE LA LOMA | F14: N 07° 15' 16.7” | G14: W 077° 46' 11.7”
B15: 12 | C15: CESITAR TAFU ACHITO | D15: 1076877556 | E15: EYASAKE LA LOMA | F15: N 07° 15' 18.1” | G15: W 077° 46' 10.7”
B16: 13 | C16: ARIEL CANSARI VALDESPINO | D16: 1076876295 | E16: EYASAKE LA LOMA | F16: N 07° 15' 17.2” | G16: W 077° 46' 10.9”
B17: 14 | C17: DARIO VALDESPINO TAFU | D17: 1003891738 | E17: EYASAKE LA LOMA | F17: N 07° 15' 16.8” | G17: W 077° 46' 11.8”
B18: 15 | C18: FRANKLIN ACHITO VALDESPINO | D18: 11851157 | E18: EYASAKE LA LOMA | F18: N 07° 15' 16.9” | G18: W 077° 46' 06.7”
B19: 16 | C19: YAQUELINE VALDESPINO TAFU | D19: 1193037604 | E19: EYASAKE LA LOMA | F19: N 07° 15' 16.5” | G19: W 077° 46' 11.1”
... B79: 76 | C79: ALEJANDRO CHICHILIANO DUVIAZA | D79: 11851191 | E79: DOS BOCAS | F79: N 07° 13' 35.4” | G79: W 077° 47' 19.2”
B80: 77 | C80: AUBRELINO DOGIRAMA CANSARI | D80: 5-715-1614 | E80: DOS BOCAS | F80: N 07° 13' 37.4” | G80: W 077° 47' 19.2”
B81: 78 | C81: WILIAN CUÑAPA FLACO | D81: 11850793 | E81: DOS BOCAS | F81: N 07° 13' 38.8” | G81: W 077° 47' 19.4”
B82: 79 | C82: BRANDO DOGIRAMA CANSARI | D82: 11850986 | E82: DOS BOCAS | F82: N 07° 13' 39.7” | G82: W 077° 47' 19.9”
B83: 80 | C83: ARGELIO SARCO CUÑAPA | D83: 1010052679 | E83: DOS BOCAS | F83: N 07° 13' 39.1” | G83: W 077° 47' 19.1”
B84: 81 | C84: JHON HARRY LUVIASA CHAMORRO | D84: 1003891578 | E84: DOS BOCAS | F84: N 07° 13' 39.1” | G84: W 077° 47' 18.8”
B85: 82 | C85: NELVIA CUÑAPA FLACO | D85: 26374154 | E85: DOS BOCAS | F85: N 07° 13' 40.3” | G85: W 077° 47' 17.0”
B86: 83 | C86: EFREN SARCO CUÑAPA | D86: 11850973 | E86: DOS BOCAS | F86: N 07° 13' 39.7” | G86: W 077° 47' 16.6”
B87: 84 | C87: ALEX SARCO CUÑAPA | D87: 11850921 | E87: DOS BOCAS | F87: N 07° 13' 39.3” | G87: W 077° 47' 15.5”
B88: 85 | C88: TAISON MARTINEZ | D88: 1148452584 | E88: DOS BOCAS | F88: N 07° 13' 38.8” | G88: W 077° 47' 17.1”
B89: 86 | C89: JUAN CARLOS LUVIAZA CHAJITO | D89: 1147695265 | E89: DOS BOCAS | F89: N 07° 13 ' 37.1” | G89: W 077° 47' 17.8”
B90: 87 | C90: PLINIO DEQUIA CANSARI | D90: 11851469 | E90: DOS BOCAS | F90: N 07° 13' 36.6” | G90: W 077° 47' 17.7”
B91: 88 | C91: BIENVENIDO DEQUIA DOGIRAMA | D91: 11850421 | E91: DOS BOCAS | F91: N 07° 13' 36.3” | G91: W 077° 47' 17.8”
B92: 89 | C92: JAIDER VALDESPINO CHAJITO | D92: 1078666015 | E92: DOS BOCAS | F92: N 07° 13' 37.1” | G92: W 077° 47' 18.6”
... B153: 150 | C153: LUZ DARI CHIRIPUA | D153: 26371746 | E153: DOS BOCAS | F153: N 07° 12' 54.4” | G153: W 077° 47' 05.2”

Sheet PLAN DE MANEJO AMBIENTAL
B2: =+'PPTO. GENERAL'!B4:K4 -> INSTALACIÓN DE SOLUCIONES ENERGÉTICAS PARA BENEFICIAR LAS COMUNIDADES INIDIGENAS DEL RESGUARDO NUSSI PURRU EN ZONAS NO INTERCONECTADAS DEL MUNICIPIO DE JURADO - CHOCO
B4: PRESUPUESTO SALUD OCUPACIONAL, SEGURIDAD INDUSTRIAL Y MEDIO AMBIENTE
H6: INVERSIÓN MEDICINA PREVENTIVA Y DEL TRABAJO
B7: ACTIVIDADES A REALIZAR | F7: RECUROS ASIGNADOS | H7: No DE PERSONAS | J7: VALOR EXAMEN | K7: SUBTOTAL
B8: Examenes de ingreso y de egreso con base en en las caracteristicas de los trabajos y a los riegos de exposición | F8: Medico especialista en salud ocupacional | K8: =+J8*H8 -> 0
B9: selección de personal Evaluación del desempeño | F9: Ing. Industrial | H9: 150 | J9: 30000 | K9: =+J9*H9 -> 4500000
B10: SUBTOTAL MEDICINA PREVENTIVA Y DEL TRABAJO | K10: =SUM(K8:L9) -> 4500000
H12: INVERSIÓN AREA DE SEGURIDAD INDUSTRIAL
B13: ACTIVIDADES A REALIZAR | F13: MESES | H13: No DE ACTIVIDADES | J13: VALOR ACTIVIDAD | K13: SUBTOTAL
B14: Mantenimiento equipos de emergencia extintores. | F14: 1 | H14: 3 | J14: 369000 | K14: =+J14*H14*F14 -> 1107000
B15: Alquiler de 2 UNIDADES * (2 meses) : WC aseo portátil de polietileno, de 1,20x1,20x2,35 m, color gris, sin conexiones, con sanitario químico anaerobio con sistema de descarga de bomba de pie, espejo, puerta con cerradura y techo translúcido para entrada de luz exterior. El precio incluye la limpieza y el mantenimiento del aseo durante el periodo de alquiler. | F15: 2 | H15: 4 | J15: 300000 | K15: =+J15*H15*F15 -> 2400000
B16: TOTAL INVERSION SUBPROGRAMA DE SEGURIDAD INDUSTRIAL | K16: =SUM(K14:L15) -> 3507000
H18: INVERSION SUBPROGRAMA DE MEDIO AMBIENTE
B19: ACTIVIDADES A REALIZAR | F19: DEDICACION | H19: MESES | J19: VALOR ACTIVIDAD | K19: SUBTOTAL
B20: Programa desarrollo y aplicación de la gestion ambiental / Ingeniero ambiental coordinador del programa | F20: 0.5 | H20: 2 | J20: 3000000 | K20: =+(J20*H20)*F20 -> 3000000
B21: Programa actividadades constructivas / Ingeniero ambiental coordinador del programa | F21: 0.875 | H21: 2 | J21: 2000000 | K21: =+(J21*H21)*F21 -> 3500000
B22: Programa gestion hidrica | K22: =H22*J22 -> 0
B23: Programa de manejo de instalaciones maquinaria y equipo | K23: =H23*J23 -> 0
B24: Programa gestion social | K24: =H24*J24 -> 0
B25: MONITOREO Y SEGUIMIENTO / Ingeniero ambiental coordinador del programa | F25: 0.375 | H25: 2 | J25: 2000000 | K25: =+(J25*H25)*F25 -> 1500000
B26: TOTAL INVERSION SUBPROGRAMA MEDIO AMBIENTE | K26: =SUM(K20:L25) -> 8000000
H28: ASESORIA Y AUDITORIA EXTERNA
B29: ACTIVIDADES A REALIZAR | F29: RECUROS ASIGNADOS | H29: No DE ACTIVIDADES | J29: VALOR ACTIVIDAD | K29: SUBTOTAL
B30: Cordinar el programa de salud ocupacional, seguridad industrial y medio ambiente, responsable de los productos del programa | F30: Ingeniero ambiental | H30: 1 | J30: 1513931 | K30: =H30*J30 -> 1513931
B32: COSTO TOTAL DEL PROGRAMA | K32: =+K30+K26+K16+K10 -> 17520931

Sheet CRONOGRAMA
B1: PRESUPUESTO GENERAL
B3: INSTALACIÓN DE SOLUCIONES ENERGÉTICAS PARA BENEFICIAR LAS COMUNIDADES INIDIGENAS DEL RESGUARDO NUSSI PURRU EN ZONAS NO INTERCONECTADAS DEL MUNICIPIO DE JURADO - CHOCO
B4: CRONOGRAMA DE EJECUCION FISICA Y FINANCIERA
B6: ÍTEM | C6: ACTIVIDAD | D6: CANTIDAD USUARIOS | E6: MES 1 | F6: MES 2 | G6: MES 3 | H6: MES 4 | I6: MES 5 | J6: MES 6 | K6: MES 7 | L6: MES 8 | M6: MES 9 | N6: MES 10
B7: 1 | C7: ETAPA CONTRACTUAL Y PRECONTRACTUAL | E7: ETAPA CONTRACTUAL Y PRECONTRACTUAL (LICITACION)
B8: 2 | C8: Realizar el suministro, transporte e instalación de dos (2) módulos solares monocristalinos de potencia mayor o igual a 450Wp cada uno + Accesorios de ensamblaje y sistema de protección DPS | D8: ='PPTO. GENERAL'!K8 -> 8.3136429e+08 | H8: =D8/6 -> 1.3856072e+08 | I8: =+H8 -> 1.3856072e+08 | J8: =+I8 -> 1.3856072e+08 | K8: =+J8 -> 1.3856072e+08 | L8: =+K8 -> 1.3856072e+08 | M8: =+L8 -> 1.3856072e+08
B9: 3 | C9: Realizar el suministro, transporte e instalación de una (1) batería de Litio-Ion LiFePO4 de capacidad mayor o igual de 2840 Wh, 25.6 VDC con vida útil igual o mayor a 3650 ciclos a un DoD del 80% y protección de temperatura | D9: ='PPTO. GENERAL'!K9 -> 1.014791e+09 | H9: =D9/6 -> 1.6913183e+08 | I9: =+H9 -> 1.6913183e+08 | J9: =+I9 -> 1.6913183e+08 | K9: =+J9 -> 1.6913183e+08 | L9: =+K9 -> 1.6913183e+08 | M9: =+L9 -> 1.6913183e+08
